BEGIN:VCALENDAR
VERSION:2.0
PRODID:-//Gauteng North Golf Union - ECPv6.15.17.1//NONSGML v1.0//EN
CALSCALE:GREGORIAN
METHOD:PUBLISH
X-WR-CALNAME:Gauteng North Golf Union
X-ORIGINAL-URL:https://www.gngu.co.za
X-WR-CALDESC:Events for Gauteng North Golf Union
REFRESH-INTERVAL;VALUE=DURATION:PT1H
X-Robots-Tag:noindex
X-PUBLISHED-TTL:PT1H
BEGIN:VTIMEZONE
TZID:Europe/Moscow
BEGIN:STANDARD
TZOFFSETFROM:+0300
TZOFFSETTO:+0300
TZNAME:MSK
DTSTART:20250101T000000
END:STANDARD
END:VTIMEZONE
BEGIN:VEVENT
DTSTART;VALUE=DATE:20260222
DTEND;VALUE=DATE:20260223
DTSTAMP:20260421T145114
CREATED:20251125T083601Z
LAST-MODIFIED:20251125T083601Z
UID:16202-1771718400-1771804799@www.gngu.co.za
SUMMARY:League - Scratch Round 3
DESCRIPTION:
URL:https://www.gngu.co.za/event/league-scratch-round-3-2/
CATEGORIES:League
END:VEVENT
BEGIN:VEVENT
DTSTART;VALUE=DATE:20260222
DTEND;VALUE=DATE:20260223
DTSTAMP:20260421T145114
CREATED:20251125T083701Z
LAST-MODIFIED:20251125T083701Z
UID:16204-1771718400-1771804799@www.gngu.co.za
SUMMARY:League - Handicap Round 4
DESCRIPTION:
URL:https://www.gngu.co.za/event/league-handicap-round-4-2/
CATEGORIES:League
END:VEVENT
END:VCALENDAR