BEGIN:VCALENDAR
VERSION:2.0
PRODID:-//Gauteng North Golf Union - ECPv6.15.17.1//NONSGML v1.0//EN
CALSCALE:GREGORIAN
METHOD:PUBLISH
X-WR-CALNAME:Gauteng North Golf Union
X-ORIGINAL-URL:https://www.gngu.co.za
X-WR-CALDESC:Events for Gauteng North Golf Union
REFRESH-INTERVAL;VALUE=DURATION:PT1H
X-Robots-Tag:noindex
X-PUBLISHED-TTL:PT1H
BEGIN:VTIMEZONE
TZID:Europe/Moscow
BEGIN:STANDARD
TZOFFSETFROM:+0300
TZOFFSETTO:+0300
TZNAME:MSK
DTSTART:20240101T000000
END:STANDARD
END:VTIMEZONE
BEGIN:VEVENT
DTSTART;VALUE=DATE:20251013
DTEND;VALUE=DATE:20251014
DTSTAMP:20260421T203107
CREATED:20241112T085046Z
LAST-MODIFIED:20241112T085046Z
UID:14623-1760313600-1760399999@www.gngu.co.za
SUMMARY:Development League
DESCRIPTION:
URL:https://www.gngu.co.za/event/development-league-4/
LOCATION:Pretoria Golf Club
CATEGORIES:League
END:VEVENT
END:VCALENDAR