BEGIN:VCALENDAR
VERSION:2.0
PRODID:-//Gauteng North Golf Union - ECPv6.15.17.1//NONSGML v1.0//EN
CALSCALE:GREGORIAN
METHOD:PUBLISH
X-WR-CALNAME:Gauteng North Golf Union
X-ORIGINAL-URL:https://www.gngu.co.za
X-WR-CALDESC:Events for Gauteng North Golf Union
REFRESH-INTERVAL;VALUE=DURATION:PT1H
X-Robots-Tag:noindex
X-PUBLISHED-TTL:PT1H
BEGIN:VTIMEZONE
TZID:Europe/Moscow
BEGIN:STANDARD
TZOFFSETFROM:+0300
TZOFFSETTO:+0300
TZNAME:MSK
DTSTART:20240101T000000
END:STANDARD
END:VTIMEZONE
BEGIN:VEVENT
DTSTART;VALUE=DATE:20250913
DTEND;VALUE=DATE:20250914
DTSTAMP:20260421T214630
CREATED:20241112T084153Z
LAST-MODIFIED:20241112T084153Z
UID:14587-1757721600-1757807999@www.gngu.co.za
SUMMARY:League - Mid Am Scratch Round 7
DESCRIPTION:
URL:https://www.gngu.co.za/event/league-mid-am-scratch-round-7/
CATEGORIES:League
END:VEVENT
END:VCALENDAR