BEGIN:VCALENDAR
VERSION:2.0
PRODID:-//Gauteng North Golf Union - ECPv6.15.17.1//NONSGML v1.0//EN
CALSCALE:GREGORIAN
METHOD:PUBLISH
X-WR-CALNAME:Gauteng North Golf Union
X-ORIGINAL-URL:https://www.gngu.co.za
X-WR-CALDESC:Events for Gauteng North Golf Union
REFRESH-INTERVAL;VALUE=DURATION:PT1H
X-Robots-Tag:noindex
X-PUBLISHED-TTL:PT1H
BEGIN:VTIMEZONE
TZID:Europe/Moscow
BEGIN:STANDARD
TZOFFSETFROM:+0300
TZOFFSETTO:+0300
TZNAME:MSK
DTSTART:20240101T000000
END:STANDARD
END:VTIMEZONE
BEGIN:VEVENT
DTSTART;VALUE=DATE:20250824
DTEND;VALUE=DATE:20250825
DTSTAMP:20260421T231109
CREATED:20241105T120937Z
LAST-MODIFIED:20241210T100358Z
UID:14482-1755993600-1756079999@www.gngu.co.za
SUMMARY:League - Jnr Scratch Round 3
DESCRIPTION:
URL:https://www.gngu.co.za/event/league-jnr-scratch-round-3/
CATEGORIES:League
END:VEVENT
BEGIN:VEVENT
DTSTART;VALUE=DATE:20250824
DTEND;VALUE=DATE:20250825
DTSTAMP:20260421T231109
CREATED:20241105T121247Z
LAST-MODIFIED:20241105T121247Z
UID:14494-1755993600-1756079999@www.gngu.co.za
SUMMARY:League - Junior Handicap Round 4
DESCRIPTION:
URL:https://www.gngu.co.za/event/league-junior-handicap-round-4/
CATEGORIES:League
END:VEVENT
BEGIN:VEVENT
DTSTART;VALUE=DATE:20250824
DTEND;VALUE=DATE:20250825
DTSTAMP:20260421T231109
CREATED:20241105T121312Z
LAST-MODIFIED:20241105T121312Z
UID:14496-1755993600-1756079999@www.gngu.co.za
SUMMARY:League - Mixed Round 5
DESCRIPTION:
URL:https://www.gngu.co.za/event/league-mixed-round-5/
CATEGORIES:League
END:VEVENT
END:VCALENDAR