BEGIN:VCALENDAR
VERSION:2.0
PRODID:-//Gauteng North Golf Union - ECPv6.15.17.1//NONSGML v1.0//EN
CALSCALE:GREGORIAN
METHOD:PUBLISH
X-WR-CALNAME:Gauteng North Golf Union
X-ORIGINAL-URL:https://www.gngu.co.za
X-WR-CALDESC:Events for Gauteng North Golf Union
REFRESH-INTERVAL;VALUE=DURATION:PT1H
X-Robots-Tag:noindex
X-PUBLISHED-TTL:PT1H
BEGIN:VTIMEZONE
TZID:Europe/Moscow
BEGIN:STANDARD
TZOFFSETFROM:+0300
TZOFFSETTO:+0300
TZNAME:MSK
DTSTART:20240101T000000
END:STANDARD
END:VTIMEZONE
BEGIN:VEVENT
DTSTART;VALUE=DATE:20251005
DTEND;VALUE=DATE:20251006
DTSTAMP:20260421T190244
CREATED:20241112T084743Z
LAST-MODIFIED:20241112T084743Z
UID:14611-1759622400-1759708799@www.gngu.co.za
SUMMARY:League - Mixed Round 9
DESCRIPTION:
URL:https://www.gngu.co.za/event/league-mixed-round-9/
CATEGORIES:League
END:VEVENT
BEGIN:VEVENT
DTSTART;VALUE=DATE:20251011
DTEND;VALUE=DATE:20251012
DTSTAMP:20260421T190244
CREATED:20241112T084935Z
LAST-MODIFIED:20241112T084935Z
UID:14619-1760140800-1760227199@www.gngu.co.za
SUMMARY:League - Mid Am Scratch Round 10
DESCRIPTION:
URL:https://www.gngu.co.za/event/league-mid-am-scratch-round-10/
CATEGORIES:League
END:VEVENT
BEGIN:VEVENT
DTSTART;VALUE=DATE:20251013
DTEND;VALUE=DATE:20251014
DTSTAMP:20260421T190244
CREATED:20241112T085046Z
LAST-MODIFIED:20241112T085046Z
UID:14623-1760313600-1760399999@www.gngu.co.za
SUMMARY:Development League
DESCRIPTION:
URL:https://www.gngu.co.za/event/development-league-4/
LOCATION:Pretoria Golf Club
CATEGORIES:League
END:VEVENT
END:VCALENDAR