BEGIN:VCALENDAR
VERSION:2.0
PRODID:-//Gauteng North Golf Union - ECPv6.15.17.1//NONSGML v1.0//EN
CALSCALE:GREGORIAN
METHOD:PUBLISH
X-ORIGINAL-URL:https://www.gngu.co.za
X-WR-CALDESC:Events for Gauteng North Golf Union
REFRESH-INTERVAL;VALUE=DURATION:PT1H
X-Robots-Tag:noindex
X-PUBLISHED-TTL:PT1H
BEGIN:VTIMEZONE
TZID:Europe/Moscow
BEGIN:STANDARD
TZOFFSETFROM:+0300
TZOFFSETTO:+0300
TZNAME:MSK
DTSTART:20240101T000000
END:STANDARD
END:VTIMEZONE
BEGIN:VEVENT
DTSTART;VALUE=DATE:20250906
DTEND;VALUE=DATE:20250907
DTSTAMP:20260421T203049
CREATED:20241112T084121Z
LAST-MODIFIED:20241112T084121Z
UID:14585-1757116800-1757203199@www.gngu.co.za
SUMMARY:League - Mid Am Scratch Round 6
DESCRIPTION:
URL:https://www.gngu.co.za/event/league-mid-am-scratch-round-6/
CATEGORIES:League
END:VEVENT
BEGIN:VEVENT
DTSTART;VALUE=DATE:20250913
DTEND;VALUE=DATE:20250914
DTSTAMP:20260421T203049
CREATED:20241112T084153Z
LAST-MODIFIED:20241112T084153Z
UID:14587-1757721600-1757807999@www.gngu.co.za
SUMMARY:League - Mid Am Scratch Round 7
DESCRIPTION:
URL:https://www.gngu.co.za/event/league-mid-am-scratch-round-7/
CATEGORIES:League
END:VEVENT
BEGIN:VEVENT
DTSTART;VALUE=DATE:20250920
DTEND;VALUE=DATE:20250921
DTSTAMP:20260421T203049
CREATED:20241112T084400Z
LAST-MODIFIED:20241112T084400Z
UID:14596-1758326400-1758412799@www.gngu.co.za
SUMMARY:League - Mid Am Scratch Round 8
DESCRIPTION:
URL:https://www.gngu.co.za/event/league-mid-am-scratch-round-8/
CATEGORIES:League
END:VEVENT
BEGIN:VEVENT
DTSTART;VALUE=DATE:20250921
DTEND;VALUE=DATE:20250922
DTSTAMP:20260421T203049
CREATED:20241112T084546Z
LAST-MODIFIED:20241112T084546Z
UID:14603-1758412800-1758499199@www.gngu.co.za
SUMMARY:League - Mixed Round 7
DESCRIPTION:
URL:https://www.gngu.co.za/event/league-mixed-round-7/
CATEGORIES:League
END:VEVENT
BEGIN:VEVENT
DTSTART;VALUE=DATE:20250927
DTEND;VALUE=DATE:20250928
DTSTAMP:20260421T203049
CREATED:20241112T084643Z
LAST-MODIFIED:20241112T084643Z
UID:14607-1758931200-1759017599@www.gngu.co.za
SUMMARY:League - Mid Am Scratch Round 9
DESCRIPTION:
URL:https://www.gngu.co.za/event/league-mid-am-scratch-round-9/
CATEGORIES:League
END:VEVENT
BEGIN:VEVENT
DTSTART;VALUE=DATE:20250928
DTEND;VALUE=DATE:20250929
DTSTAMP:20260421T203049
CREATED:20241112T084713Z
LAST-MODIFIED:20241112T084713Z
UID:14609-1759017600-1759103999@www.gngu.co.za
SUMMARY:League - Mixed Round 8
DESCRIPTION:
URL:https://www.gngu.co.za/event/league-mixed-round-8/
CATEGORIES:League
END:VEVENT
END:VCALENDAR