BEGIN:VCALENDAR
VERSION:2.0
PRODID:-//Gauteng North Golf Union - ECPv6.15.17.1//NONSGML v1.0//EN
CALSCALE:GREGORIAN
METHOD:PUBLISH
X-WR-CALNAME:Gauteng North Golf Union
X-ORIGINAL-URL:https://www.gngu.co.za
X-WR-CALDESC:Events for Gauteng North Golf Union
REFRESH-INTERVAL;VALUE=DURATION:PT1H
X-Robots-Tag:noindex
X-PUBLISHED-TTL:PT1H
BEGIN:VTIMEZONE
TZID:Europe/Moscow
BEGIN:STANDARD
TZOFFSETFROM:+0300
TZOFFSETTO:+0300
TZNAME:MSK
DTSTART:20250101T000000
END:STANDARD
END:VTIMEZONE
BEGIN:VEVENT
DTSTART;VALUE=DATE:20260425
DTEND;VALUE=DATE:20260427
DTSTAMP:20260426T012745
CREATED:20250926T103003Z
LAST-MODIFIED:20250926T103003Z
UID:15673-1777075200-1777247999@www.gngu.co.za
SUMMARY:M - Vaal Senior
DESCRIPTION:
URL:https://www.gngu.co.za/event/m-vaal-senior/
LOCATION:Maccauvlei GC
CATEGORIES:Provincial Union Events
END:VEVENT
BEGIN:VEVENT
DTSTART;VALUE=DATE:20260425
DTEND;VALUE=DATE:20260427
DTSTAMP:20260426T012745
CREATED:20250926T103137Z
LAST-MODIFIED:20250926T103137Z
UID:15675-1777075200-1777247999@www.gngu.co.za
SUMMARY:W - Boland Womens Open
DESCRIPTION:
URL:https://www.gngu.co.za/event/w-boland-womens-open-2/
CATEGORIES:Provincial Union Events
END:VEVENT
END:VCALENDAR